BEGIN:VCALENDAR
VERSION:2.0
PRODID:-//wp-events-plugin.com//7.2.3.1//EN
TZID:Europe/Berlin
X-WR-TIMEZONE:Europe/Berlin
BEGIN:VEVENT
UID:13@hanikapila.de
DTSTART;TZID=Europe/Berlin:20260521T190000
DTEND;TZID=Europe/Berlin:20260521T220000
DTSTAMP:20260324T221437Z
URL:https://hanikapila.de/events/hanikapila-im-mai-2026-beatle-lieder/
SUMMARY:Hanikapila im Mai 2026 - Beatle Lieder
DESCRIPTION:Hallo Ukulelespieler\,\n\nDer nächste Ukuleletreff steht an un
 d der ist am Donnerstag\, 21. Mai 2026. Wie gewohnt ab 19 Uhr starten wir 
 um gemeinsam Musik zu machen. Und diesmal gibt es Lieder von den Beatles.\
 n\nIch freue mich auf Eure Rückmeldungen und dann das Wunschkonzert im Pf
 arrheim St.Canisius (Lenbachstr. 7) .\n\nLiebe Grüße Daniel
LOCATION:St. Canisius\, Lenbachstr. 7\, Ingolstadt \, Bayern \, 85055\, Deu
 tschland
X-APPLE-STRUCTURED-LOCATION;VALUE=URI;X-ADDRESS=Lenbachstr. 7\, Ingolstadt 
 \, Bayern \, 85055\, Deutschland;X-APPLE-RADIUS=100;X-TITLE=St. Canisius:g
 eo:0,0
END:VEVENT
BEGIN:VTIMEZONE
TZID:Europe/Berlin
X-LIC-LOCATION:Europe/Berlin
BEGIN:DAYLIGHT
DTSTART:20260329T030000
TZOFFSETFROM:+0100
TZOFFSETTO:+0200
TZNAME:CEST
END:DAYLIGHT
END:VTIMEZONE
END:VCALENDAR